BEGIN:VCALENDAR
VERSION:2.0
PRODID:-//VC Wiehl 2006 e.V. - ECPv6.2.6//NONSGML v1.0//EN
CALSCALE:GREGORIAN
METHOD:PUBLISH
X-ORIGINAL-URL:https://vc-wiehl06.de
X-WR-CALDESC:Veranstaltungen für VC Wiehl 2006 e.V.
REFRESH-INTERVAL;VALUE=DURATION:PT1H
X-Robots-Tag:noindex
X-PUBLISHED-TTL:PT1H
BEGIN:VTIMEZONE
TZID:Europe/Berlin
BEGIN:DAYLIGHT
TZOFFSETFROM:+0100
TZOFFSETTO:+0200
TZNAME:CEST
DTSTART:20220327T010000
END:DAYLIGHT
BEGIN:STANDARD
TZOFFSETFROM:+0200
TZOFFSETTO:+0100
TZNAME:CET
DTSTART:20221030T010000
END:STANDARD
END:VTIMEZONE
BEGIN:VEVENT
DTSTART;TZID=Europe/Berlin:20221114T200000
DTEND;TZID=Europe/Berlin:20221114T220000
DTSTAMP:20260425T002707
CREATED:20220924T111807Z
LAST-MODIFIED:20220924T111807Z
UID:1479-1668456000-1668463200@vc-wiehl06.de
SUMMARY:Heimspiel des VC-Wiehl 06 ll
DESCRIPTION:Der VC-Wiehl 06 ll spielt gegen den VC Ründeroth ll.
URL:https://vc-wiehl06.de/termin/heimspiel-des-vc-wiehl-06-ll-2/
END:VEVENT
END:VCALENDAR