BEGIN:VCALENDAR
VERSION:2.0
PRODID:-//VC Wiehl 2006 e.V. - ECPv6.2.6//NONSGML v1.0//EN
CALSCALE:GREGORIAN
METHOD:PUBLISH
X-WR-CALNAME:VC Wiehl 2006 e.V.
X-ORIGINAL-URL:https://vc-wiehl06.de
X-WR-CALDESC:Veranstaltungen für VC Wiehl 2006 e.V.
REFRESH-INTERVAL;VALUE=DURATION:PT1H
X-Robots-Tag:noindex
X-PUBLISHED-TTL:PT1H
BEGIN:VTIMEZONE
TZID:Europe/Berlin
BEGIN:DAYLIGHT
TZOFFSETFROM:+0100
TZOFFSETTO:+0200
TZNAME:CEST
DTSTART:20220327T010000
END:DAYLIGHT
BEGIN:STANDARD
TZOFFSETFROM:+0200
TZOFFSETTO:+0100
TZNAME:CET
DTSTART:20221030T010000
END:STANDARD
END:VTIMEZONE
BEGIN:VEVENT
DTSTART;TZID=Europe/Berlin:20220925T083000
DTEND;TZID=Europe/Berlin:20220925T170000
DTSTAMP:20260425T035648
CREATED:20220924T110559Z
LAST-MODIFIED:20220924T110559Z
UID:1469-1664094600-1664125200@vc-wiehl06.de
SUMMARY:Erster "Home of Smash Cup"
DESCRIPTION:Die zweite Mixed nimmt am ersten Mixed Turnier des TV Forsbach teil.
URL:https://vc-wiehl06.de/termin/erster-home-of-smash-cup/
CATEGORIES:Mixed
END:VEVENT
BEGIN:VEVENT
DTSTART;TZID=Europe/Berlin:20220925T100000
DTEND;TZID=Europe/Berlin:20220925T140000
DTSTAMP:20260425T035648
CREATED:20220924T110316Z
LAST-MODIFIED:20220924T110912Z
UID:1467-1664100000-1664114400@vc-wiehl06.de
SUMMARY:Jugendturnier des VKO
DESCRIPTION:Die U14/Anfänger und die U16 schauen bei dem Jugendturnier in Waldbröl zu.
URL:https://vc-wiehl06.de/termin/jugendturnier-des-vko/
END:VEVENT
END:VCALENDAR